BEGIN:VCALENDAR
VERSION:2.0
PRODID:-//eventon.com NONSGML v1.0//EN
CALSCALE:GREGORIAN
METHOD:PUBLISH
BEGIN:VEVENT
UID:69ea4ab2111cf
DTSTAMP:20260423T113706
DTSTART:20220623T230000Z
DTEND:20220624T030000Z
TZID:America/Chicago
LOCATION:Whataburger Field 734 E Port Ave
SUMMARY:PRIDE Night at CC Hooks
DESCRIPTION: Tickets are now on sale for the Corpus Christi Hooks PRIDE Night on June 23rd at Whataburger Field. The event will showcase the LGBTQIA+ opening flag ceremony and special guest Miss Gay Corpus Christi USofA 2021 Lisa Perry for the first pitch. Purchase of tickets through our website will group[..]\nhttps://pridecorpuschristi.com/events/pride-night-at-cc-hooks/
URL:https://pridecorpuschristi.com/events/pride-night-at-cc-hooks/
END:VEVENT
END:VCALENDAR