BEGIN:VCALENDAR
VERSION:2.0
PRODID:-//eventon.com NONSGML v1.0//EN
CALSCALE:GREGORIAN
METHOD:PUBLISH
BEGIN:VEVENT
UID:69e83bda9839c
DTSTAMP:20260421T220914
DTSTART:20230601T050000Z
DTEND:20230701T045900Z
TZID:America/Chicago
LOCATION:Produce® Bar &amp; Gallery 415 Peoples St\,  Ste D\,  Corpus Christi\,  TX\,  United States\,  Texas
SUMMARY:LGBTQIA+ Art Exhibition: "Daydreaming Ourselves Awake"
DESCRIPTION: This June\,  Produce® Bar &amp; Gallery and Joey Gonzalez proudly presents &#8220;Day Dreaming Ourselves Awake\, &#8221; an LGBTQIA+ art exhibit that delves into the power of dreams as a catalyst for change and self-discovery. From June 2nd to the 30th\,  at 419 Peoples St\,  Corpus Christi\,  TX 78401\,  experience a diverse[..]\nhttps://pridecorpuschristi.com/events/lgbtqia-art-exhibition-daydreaming-ourselves-awake/
URL:https://pridecorpuschristi.com/events/lgbtqia-art-exhibition-daydreaming-ourselves-awake/
END:VEVENT
END:VCALENDAR