BEGIN:VCALENDAR
VERSION:2.0
PRODID:-//eventon.com NONSGML v1.0//EN
CALSCALE:GREGORIAN
METHOD:PUBLISH
BEGIN:VEVENT
UID:69eccc56e5df3
DTSTAMP:20260425T091446
DTSTART:20240609T160000Z
DTEND:20240609T183000Z
TZID:America/Chicago
LOCATION:House of Rock 511 Starr St.
SUMMARY:Pop Icons - Gemini B York Birthday Celebration
DESCRIPTION: Date: Sunday\,  June 9th Time: Doors open at 11 AM\,  Showtime starts at 12:15 PM Location: House of Rock\,  511 Starr St\,  Corpus Christi\,  TX Age Limit: 18+ Hosted by: Isis Paris York Featuring: Chelsea\,  Dino\,  Porcealain\,  Kemichall Entertainment Provided by: Azul Entertainment Tickets: Available at ETix.com Join us for[..]\nhttps://pridecorpuschristi.com/events/pop-icons-gemini-b-york-birthday-celebration/
URL:https://pridecorpuschristi.com/events/pop-icons-gemini-b-york-birthday-celebration/
END:VEVENT
END:VCALENDAR