BEGIN:VCALENDAR
VERSION:2.0
PRODID:-//eventon.com NONSGML v1.0//EN
CALSCALE:GREGORIAN
METHOD:PUBLISH
BEGIN:VEVENT
UID:69e77eb2d32cd
DTSTAMP:20260421T084210
DTSTART:20260531T210000Z
DTEND:20260601T000000Z
TZID:America/Chicago
LOCATION:The Hidden Door 802 S Staples St.
SUMMARY:Pride Kick Off
DESCRIPTION: Join us for a delightful culinary experience at the Hidden Door&#8217;s Pride Kick-Off\,  featuring a smoked turkey leg with corn on the cob and a grilled burger cookout. This event is a perfect way to celebrate and support the community\,  with proceeds benefiting Reign XXXVII Charities. Enjoy a festive atmosphere[..]\nhttps://pridecorpuschristi.com/events/pride-kick-off/
URL:https://pridecorpuschristi.com/events/pride-kick-off/
END:VEVENT
END:VCALENDAR